BEGIN:VCALENDAR
VERSION:2.0
PRODID:icalendar-ruby
CALSCALE:GREGORIAN
METHOD:PUBLISH
BEGIN:VEVENT
DTSTAMP:20260424T055141Z
UID:6-923699@westminot.tithelysetup5.com
DTSTART:20261011T153000Z
DTEND:20261011T163000Z
CLASS:PUBLIC
CREATED:20260423T213003
DESCRIPTION:Sunday Worship
LAST-MODIFIED:20260423T213003
LOCATION:
SUMMARY:Sunday Worship
URL;VALUE=URI:https://westminot.com/events/sunday-worship/2026-10-11
ATTACH;FILENAME=IMG_7702.JPG;FMTTYPE=image/jpeg:https://dq5pwpg1q8ru0.cloud
 front.net/2023/09/06/22/13/38/7eff44f6-ef29-499d-a5b4-fdbca071cfc8/IMG_770
 2.JPG
END:VEVENT
END:VCALENDAR
